BEGIN:VCALENDAR
VERSION:2.0
PRODID:-//wp-events-plugin.com//7.2.3.1//EN
TZID:America/Denver
X-WR-TIMEZONE:America/Denver
BEGIN:VEVENT
UID:11@seeksparkshine.com
DTSTART;TZID=America/Denver:20160109T110000
DTEND;TZID=America/Denver:20160110T150000
DTSTAMP:20151117T181540Z
URL:https://seeksparkshine.com/events/reiki-1-certification-san-diego-2/
SUMMARY:Reiki 1 Certification - San Diego
DESCRIPTION:REIKI FOR SELF HEALING\nJoin us for a unique Reiki 1 Certificat
 ion course that combines energy medicine and supporting therapies to allow
  you to access your innate ability to heal yourself. You will:\n\n* Learn 
 how to harness and feel your energy as well as that of others.\n* Learn to
  channel and move energy with Qi Gong and hand positions.\n* Receive the f
 our Reiki Level 1 attunements and First Degree Certification.\n\nWe'll hav
 e a half hour break midway through both classes\, so please bring snacks\
 , water and lunch.\nREGISTRATION\nCost: $250\n\nRegister here via Spirit Y
 oga.\nWHAT PEOPLE ARE SAYING ABOUT REIKI 1 WITH SHARNA\n"When I saw that S
 harna was teaching Reiki 1 Certification\, I knew I couldn't pass up the o
 pportunity to learn from this divine goddess...Sharna is a natural at teac
 hing (and not everyone is). We started with a prayer and meditation and th
 en went through our syllabus. The flow between Qigong exercises\, attuneme
 nts\, energy work\, and understanding the how and why of Reiki was execute
 d seamlessly by Sharna. She has an affinity for knowing when to inject lev
 ity. Love that the manual she created has a lot of additional information 
 for you to read at your leisure\, plus an extensive reading list. Looking 
 forward to working on myself and taking Level 2. Maybe I should've skipped
  writing this novel and just posted my cliff notes\, which would read like
  this\, 'Sharna ROCKS! If Seek Spark Shine is offering classes or workshop
 s--take them!'." Elizabeth\n\n"I only had a vague idea about Reiki and was
  very curious about it and I had heard incredible things about Sharna. Wow
 ! I was blown away with the energy and knowledge Sharna generously shared 
 with us. She was totally present for the entire day. I learned so much abo
 ut healing energy and how I could incorporate Reiki into my existing medit
 ation practice. It is not even one week after and I am already experiencin
 g significant shifts in areas where i have been stuck of years. She made s
 ure that we all knew she was going to be available after if we ever had qu
 estions or needed support during our process in the weeks and months follo
 wing the session. I highly recommend Sharna for her healing and education 
 services." ~ Gina\n\n"Sharna's genuine and radiant energy filled the room\
 , never wavering from the beginning of a long day of class to the end\, se
 tting the stage for a powerful day of learning and transformation. Sharna 
 was a fountain of information on a vast number of healing topics not just 
 reiki. The beauty of her teaching style was her lack of ego...Sharna taugh
 t with grace\, inclusiveness and loving openness. She taught with humor an
 d a lightness of touch that made such a deep subject completely accessible
  and alive for all involved. The four reiki level 1 attunements she gave 
 throughout class were powerful and transformational. The class was five da
 ys ago and I am still in an expanded state of bliss. The materials\, her p
 resentation style\, and the amount of information she fit into the day was
  impressive...I will be signing up for Sharna's reiki level 2 course\, and
  seeing her for reiki and sound therapy sessions in the near future. Sharn
 a has a true gift. You can't help but see it and feel it in everything she
  says and does." ~ Cinnamon\nYOUR FACILITATOR\nSharna Langlais\, Reiki Mas
 ter\nSharna works with clients internationally\, helping them uncover the 
 source of wounds and blockages so they can live freer\, fuller and brighte
 r lives. Using Reiki\, meditation\, and energy therapy\, she facilitates a
  holistic journey toward healing. A Reiki Master\, as well as a certified 
 Say it Straight Communication Trainer\, Sharna also writes for MindBodyGre
 en on Reiki healing. A skilled and passionate teacher and facilitator\, sh
 e has been leading groups\, workshops and classes for over 15 years.
ATTACH;FMTTYPE=image/jpeg:https://seeksparkshine.com/wp-content/uploads/20
 15/08/Reiki1.jpg
CATEGORIES:Reiki,Reiki1
LOCATION:Spirit Yoga\, 1559 Garnet Ave\, San Diego\, CA\, 92109\, United St
 ates
GEO:32.799424;-117.24131640000002
X-APPLE-STRUCTURED-LOCATION;VALUE=URI;X-ADDRESS=1559 Garnet Ave\, San Diego
 \, CA\, 92109\, United States;X-APPLE-RADIUS=100;X-TITLE=Spirit Yoga:geo:3
 2.799424,-117.24131640000002
END:VEVENT
BEGIN:VTIMEZONE
TZID:America/Denver
X-LIC-LOCATION:America/Denver
BEGIN:STANDARD
DTSTART:20151101T010000
TZOFFSETFROM:-0600
TZOFFSETTO:-0700
TZNAME:MST
END:STANDARD
END:VTIMEZONE
END:VCALENDAR