BEGIN:VCALENDAR
VERSION:2.0
PRODID:-//wp-events-plugin.com//7.2.3.1//EN
TZID:America/Denver
X-WR-TIMEZONE:America/Denver
BEGIN:VEVENT
UID:109@seeksparkshine.com
DTSTART;TZID=America/Denver:20181222T190000
DTEND;TZID=America/Denver:20181222T203000
DTSTAMP:20180925T151215Z
URL:https://seeksparkshine.com/events/shine-lodge-cancer-full-moon/
SUMMARY:Shine Lodge - Cancer Full Moon
DESCRIPTION:Shine Lodge is a monthly online gathering around the Full Moon 
 to engage in community\, participate in ceremony\, and receive support and
  guidance. Our gatherings include:\n\n 	overview of the month's astrology 
 along with tools and tips regarding the monthly topic by Lodge Guide\, Sh
 arna Langlais\n 	check-ins and sharing by lodge participants to receive co
 mmunity support and ask questions\n 	releasing ceremony specific to the m
 onth's Full Moon\n\nDECEMBER'S LODGE - CANCER FULL MOON\nDate &amp\; Time:
  Saturday\, 12/22/18\, 7-8:30pm Mountain Time (6-7:30pm Pacific Time\; 9-
 10:30pm Eastern Time\; for other time zones\, use Time Zone Converter\, co
 nverting from Albuquerque\, NM)\n\nPlatform: Lodges are held via Zoom\, wh
 ich allows you to share your video using your phone or computer. You may a
 lso dial in via phone as well. Log-in information and credentials are sent
  after you register.\nUPCOMING DATES\nUnless otherwise noted\, time is 7-8
 :30pm\, Mountain Time\n\n 	2019 Dates Coming Soon\n\nREGISTRATION\nShine L
 odge includes two registration options. You may choose to subscribe to Shi
 ne Lodge as a monthly recurring member at any time\, or you may elect to r
 egister on a drop-in basis. Please note that drop-ins are on an "as availa
 ble" basis.\nRecurring Auto-Debit: $23/month (unsubscribe any time after 3
  months)\n\n 	automatically reserved space unless it is forfeited (may be 
 gifted to a friend up to three days before the lodge)\n 	video recording o
 f lodge sent the following day (so you may watch if you are unable to atte
 nd)\n 	two free passes to gift to friends per year\n 	Use the "subscribe" 
 button below to select this option\n\n\n\n\n\n\n&nbsp\;\n Drop-in: $28 (a
 s space is available)\n\n 	available on a first-come\, first-served basis\
 n 	drop-ins do not receive the lodge video recording\n 	Use the "bookings"
  form below to select this option\n
ATTACH;FMTTYPE=image/jpeg:https://seeksparkshine.com/wp-content/uploads/20
 17/11/Shine-Lodge.png
CATEGORIES:Shine Lodge,Workshops
LOCATION:Online Workshop\, Online\, Webinar\, United States
GEO:32.9066839;-96.6049468
X-APPLE-STRUCTURED-LOCATION;VALUE=URI;X-ADDRESS=Online\, Webinar\, United S
 tates;X-APPLE-RADIUS=100;X-TITLE=Online Workshop:geo:32.9066839,-96.604946
 8
END:VEVENT
BEGIN:VTIMEZONE
TZID:America/Denver
X-LIC-LOCATION:America/Denver
BEGIN:STANDARD
DTSTART:20181104T010000
TZOFFSETFROM:-0600
TZOFFSETTO:-0700
TZNAME:MST
END:STANDARD
END:VTIMEZONE
END:VCALENDAR